BEGIN:VCALENDAR
PRODID:-//bscm-10494//EN
VERSION:2.0
BEGIN:VEVENT
SUMMARY:M. DAVIS GROUP, LLC: Day 2: Major  Chocolate Production Facility Plant Support Equip. Auction: MCC&#39;s, Electronics, Thermal Oxidizing, Forklifts &amp; Warehouse and more!
PRIORITY:0
CLASS:PUBLIC
DTSTART:20260330T150000Z
DTEND:20260430T194900Z
DESCRIPTION:
X-ALT-DESC;FMTTYPE=text/html:
LOCATION:., Central PA, Pennsylvania, ., United States
END:VEVENT
END:VCALENDAR