BEGIN:VCALENDAR
PRODID:-//bscm-10495//EN
VERSION:2.0
BEGIN:VEVENT
SUMMARY:M. DAVIS GROUP, LLC: Manufacturers of Food &amp; Beverage - Equipment No Longer Required - Equipment Auction! MDG Showroom 2.0!
PRIORITY:0
CLASS:PUBLIC
DTSTART:20260506T150000Z
DTEND:20260513T182300Z
DESCRIPTION:
X-ALT-DESC;FMTTYPE=text/html:
LOCATION:2000 Technology, Monroeville, Pennsylvania, 15146, United States
END:VEVENT
END:VCALENDAR