BEGIN:VCALENDAR
PRODID:-//bscm-10497//EN
VERSION:2.0
BEGIN:VEVENT
SUMMARY:M. DAVIS GROUP, LLC: Food &amp; Beverage Manufacturers Surplus Equipment Auction - Brew Tanks &amp; Systems, Kettles, Shop Machinery, Packaging, &amp; More - Multi-Locations
PRIORITY:0
CLASS:PUBLIC
DTSTART:20260507T150000Z
DTEND:20260514T171800Z
DESCRIPTION:
X-ALT-DESC;FMTTYPE=text/html:
LOCATION:Various Multiple Locations - , , CA, CO, IA, KY, MD, MO, NE, NJ,, PA, TX, VA, ., Pennsylvania, ., United States
END:VEVENT
END:VCALENDAR