BEGIN:VCALENDAR
PRODID:-//bscm-10496//EN
VERSION:2.0
BEGIN:VEVENT
SUMMARY:M. DAVIS GROUP, LLC: Day 3: Major Cacao Beans &amp; Cacao Nib Processing Facility Equipment Auction: Deshelling,Handling &amp; Blowing,Receiving, Bin &amp; Silo Storage, &amp; More
PRIORITY:0
CLASS:PUBLIC
DTSTART:20260528T150000Z
DTEND:20260603T150000Z
DESCRIPTION:
X-ALT-DESC;FMTTYPE=text/html:
LOCATION:., Central PA, Pennsylvania, ., United States
END:VEVENT
END:VCALENDAR