BEGIN:VCALENDAR
PRODID:-//bscm-10499//EN
VERSION:2.0
BEGIN:VEVENT
SUMMARY:M. DAVIS GROUP, LLC: RMS Packaging Plant Equipment Liquidation - Special Effect Film Production -  Pine Grove, PA
PRIORITY:0
CLASS:PUBLIC
DTSTART:20260603T150000Z
DTEND:20260610T150000Z
DESCRIPTION:
X-ALT-DESC;FMTTYPE=text/html:
LOCATION:., Pine Grove, Pennsylvania, ., United States
END:VEVENT
END:VCALENDAR